BEGIN:VCALENDAR
VERSION:2.0
PRODID:-//wp-events-plugin.com//7.2.3.1//EN
TZID:America/Bogota
X-WR-TIMEZONE:America/Bogota
BEGIN:VEVENT
UID:1@bogotacultural.com.co
DTSTART;TZID=America/Bogota:20251024T200000
DTEND;TZID=America/Bogota:20251024T200000
DTSTAMP:20251020T062945Z
URL:https://bogotacultural.com.co/events/zeta-bosio-el-bajista-original-de
 -soda-stereo-hara-temblar-bogota/
SUMMARY:Zeta Bosio\, el bajista original de Soda Stereo\, hará temblar Bog
 otá
DESCRIPTION:Acompañado de la DJ argentina Stef Iracet el icónico músico 
 llega al domo del Planetario con un show para revivir la historia del rock
  en español.\n\n\nNo es un tributo\, es el bajista original de Soda Stere
 o tocando en vivo\n\n\n\n\nEl viernes 24 de octubre\, desde las 8 de la no
 che\, acompañado por la DJ argentina Stef Iracet\, Zeta Bosio remezcla c
 lásicos inolvidables como De música ligera\, Nada personal\, Cuando pa
 se el temblor\, La muralla verde\, Entre caníbales\, Persiana americana 
 y muchos más. Una experiencia que\, en palabras del propio artista\, “
 empieza con temas suaves para conectar\, sube con los clásicos del rock 
 en español y cierra con remixes electrónicos para provocar un éxtasi
 s colectivo”.\n\nCon una selección de temas cuidadosamente elegida y u
 na propuesta visual envolvente perfecta para la cúpula del Planetario de 
 Bogotá del Instituto Distrital de las Artes - Idartes\, el Zeta Bosio Roc
 k Live Set se perfila como una de las experiencias musicales más potente
 s del año en Bogotá. Un homenaje vivo al legado de Soda Stereo\, al po
 der del rock en español y a la conexión entre generaciones a través 
 de la música.\n\n
ATTACH;FMTTYPE=image/jpeg:https://bogotacultural.com.co/wp-content/uploads
 /2025/10/Zeta-evento_1.webp
CATEGORIES:Concierto
LOCATION:Planetario de Bogotá\, Calle 26 B No. 5 - 93\, Bogotá\, Colombia
X-APPLE-STRUCTURED-LOCATION;VALUE=URI;X-ADDRESS=Calle 26 B No. 5 - 93\, Bog
 otá\, Colombia;X-APPLE-RADIUS=100;X-TITLE=Planetario de Bogotá:geo:0,0
END:VEVENT
BEGIN:VTIMEZONE
TZID:America/Bogota
X-LIC-LOCATION:America/Bogota
BEGIN:STANDARD
DTSTART:20241024T200000
TZOFFSETFROM:-0500
TZOFFSETTO:-0500
TZNAME:-05
END:STANDARD
END:VTIMEZONE
END:VCALENDAR